View In:
ArcGIS JavaScript
ArcGIS.com Map
Google Earth
ArcMap
View Footprint In:
ArcGIS.com Map
Service Description: Digital surface model (DSM); 3' pixel resolution; acquired from winter 2016/2017 LiDAR flyover. Includes buildings, vegetation, and bare earth where unobstructed.
Name: Blacksburg_DSM3ft_2017
Description: Digital surface model (DSM); 3' pixel resolution; acquired from winter 2016/2017 LiDAR flyover. Includes buildings, vegetation, and bare earth where unobstructed.
Single Fused Map Cache: false
Extent:
XMin: 1.0897500000083469E7
YMin: 3589999.9998420607
XMax: 1.0937502000083469E7
YMax: 3632500.9998420607
Spatial Reference: 102747
(2284)
Initial Extent:
XMin: 1.0897500000083469E7
YMin: 3589999.9998420607
XMax: 1.0937502000083469E7
YMax: 3632500.9998420607
Spatial Reference: 102747
(2284)
Full Extent:
XMin: 1.0897500000083469E7
YMin: 3589999.9998420607
XMax: 1.0937502000083469E7
YMax: 3632500.9998420607
Spatial Reference: 102747
(2284)
Pixel Size X: 3.0
Pixel Size Y: 3.0
Band Count: 1
Pixel Type: F32
RasterFunction Infos: {"name":"DSM_Shaded","description":"A raster function template.","help":""}, {"name":"DSM_Stretched","description":"A raster function template.","help":""}
Mensuration Capabilities: None
Has Histograms: true
Has Colormap: false
Min Scale: 0
Max Scale: 0
Copyright Text: Pictometry International Corp.
Service Data Type: esriImageServiceDataTypeGeneric
Min Values: 1659.162109375
Max Values: 2878.842529296875
Mean Values: 2101.6477652503672
Standard Deviation Values: 118.77922396599352
Object ID Field: OBJECTID
Fields:
-
OBJECTID
(
type: esriFieldTypeOID
, alias: OBJECTID
)
-
Shape
(
type: esriFieldTypeGeometry
, alias: Shape
)
-
Name
(
type: esriFieldTypeString
, alias: Name
, length: 50
)
-
MinPS
(
type: esriFieldTypeDouble
, alias: MinPS
)
-
MaxPS
(
type: esriFieldTypeDouble
, alias: MaxPS
)
-
LowPS
(
type: esriFieldTypeDouble
, alias: LowPS
)
-
HighPS
(
type: esriFieldTypeDouble
, alias: HighPS
)
-
Category
(
type: esriFieldTypeInteger
, alias: Category
, Coded Values:
[0: Unknown]
, [1: Primary]
, [2: Overview]
, ...5 more...
)
-
Tag
(
type: esriFieldTypeString
, alias: Tag
, length: 20
)
-
GroupName
(
type: esriFieldTypeString
, alias: GroupName
, length: 50
)
-
ProductName
(
type: esriFieldTypeString
, alias: ProductName
, length: 50
)
-
CenterX
(
type: esriFieldTypeDouble
, alias: CenterX
)
-
CenterY
(
type: esriFieldTypeDouble
, alias: CenterY
)
-
ZOrder
(
type: esriFieldTypeInteger
, alias: ZOrder
)
-
Shape_Length
(
type: esriFieldTypeDouble
, alias: Shape_Length
)
-
Shape_Area
(
type: esriFieldTypeDouble
, alias: Shape_Area
)
Raster Attribute Table: false
Default Mosaic Method: Northwest
Allowed Mosaic Methods: NorthWest,Center,LockRaster,ByAttribute,Nadir,Viewpoint,Seamline,None
Allowed Compressions: N/A
SortField:
SortValue: null
Mosaic Operator: First
Default Compression Quality: 75
Default Resampling Method: Bilinear
Max Record Count: 1000
Max Image Height: 4100
Max Image Width: 15000
Max Download Image Count: 20
Max Mosaic Image Count: 20
Allow Raster Function: true
Raster Type Infos:
Name: Raster Dataset
Description: Supports all ArcGIS Raster Datasets
Help:
Has Raster Attribute Table: false
Edit Fields Info: null
Ownership Based AccessControl For Rasters: null
Child Resources:
Info
Histograms
Key Properties
Legend
Supported Operations:
Export Image
Query
Identify
Compute Histograms
Get Samples
Compute Class Statistics