View In:
ArcGIS JavaScript
ArcGIS.com Map
Google Earth
ArcMap
ArcGIS Explorer
View Footprint In:
ArcGIS.com Map
Service Description: Cached map service of Pictometry 2013 AccuPlus orthoimagery. Created from MrSID product. Reprojected to WGS 1984 Web Mercator. Native raster resolution is just slightly better than the maximum cached scale (1:945 vs 1:1128) but not enough to justify the time and storage costs of another cache tiling level. Other non-cached representations of the Pictometry orthoimagery, including MrSID and geoTIFF, are available from Enterprise GIS. The oblique imagery product (perhaps the more widely known Pictometry product) will be published to this server via the Pictometry Online application. The oblique images are not served directly via ArcGIS Server.
Map Name: Layers
Legend
All Layers and Tables
Layers:
Description:
Copyright Text: Pictometry 2013
Spatial Reference:
102100
(3857)
Single Fused Map Cache: true
Tile Info:
- Height: 256
- Width: 256
- DPI: 96
-
Levels of Detail: 21
-
Level ID: 0
[ Start Tile, End Tile ]
- Resolution: 156543.03392800014
- Scale: 5.91657527591555E8
-
Level ID: 1
[ Start Tile, End Tile ]
- Resolution: 78271.51696399994
- Scale: 2.95828763795777E8
-
Level ID: 2
[ Start Tile, End Tile ]
- Resolution: 39135.75848200009
- Scale: 1.47914381897889E8
-
Level ID: 3
[ Start Tile, End Tile ]
- Resolution: 19567.87924099992
- Scale: 7.3957190948944E7
-
Level ID: 4
[ Start Tile, End Tile ]
- Resolution: 9783.93962049996
- Scale: 3.6978595474472E7
-
Level ID: 5
[ Start Tile, End Tile ]
- Resolution: 4891.96981024998
- Scale: 1.8489297737236E7
- Format: Mixed
- Compression Quality: 85.0
- Origin: X: -2.0037508342787E7
Y: 2.0037508342787E7
- Spatial Reference: 102100
(3857)
Initial Extent:
XMin: -8975604.028957585
YMin: 4464166.592294194
XMax: -8948549.312715514
YMax: 4478161.237365382
Spatial Reference: 102100
(3857)
Full Extent:
XMin: -8974069.279976785
YMin: 4461931.877455751
XMax: -8946968.815361971
YMax: 4478814.365603316
Spatial Reference: 102100
(3857)
Units: esriMeters
Supported Image Format Types: PNG32,PNG24,PNG,JPG,DIB,TIFF,EMF,PS,PDF,GIF,SVG,SVGZ,BMP
Document Info:
Title:
Author:
Comments:
Subject:
Category:
Keywords: imagery,aerial,pictometry
AntialiasingMode: None
TextAntialiasingMode: Force
Supports Dynamic Layers: false
MaxRecordCount: 1000
MaxImageHeight: 2048
MaxImageWidth: 2048
Supported Query Formats: JSON, AMF
Min Scale: 5.91657527591555E8
Max Scale: 564.248588
Child Resources:
Info
Supported Operations:
Export Map
Identify
Find
Return Updates
Generate KML